{"text_format":"2","workbook":"xlsx","n_sheets":3,"sheets":["eingabe","matrix","Tabelle3"],"not_rendered":{"charts":0,"images":0,"macros":0,"external_links":0,"defined_names":1,"comments":0,"pivot_tables":0},"unopened":[],"bounds":{"document_bytes":16777216,"sheet_cells":100000,"run_cost":"one","rows_first":2000,"rows_last":500,"rows_between":2000,"halvings":0,"cell_chars":16384,"cell_head_chars":4096},"cells_cut":0,"cells_raw":0,"read":"whole","date_system":"1900"}

{"sheet":"eingabe","index":0,"n_rows":4,"n_cols":12,"rows_kept":4,"cut":false,"hidden":false,"merged":[]}
["Name","Vorname","Jg.","Verein ","Sprint","Sprint-Pkt.","Weit","Weit-Pkt.","Ball","Ball- Pkt. ","Punkte","Platz"]
["Pimperl","Lara",2013,"TSV Bayer 04 KiJu","6,68",{"$f":"VLOOKUP(ROUND(E2,1),matrix!A:B,2,FALSE)","v":28},"2,17",{"$f":"VLOOKUP(ROUND(G2,1),matrix!C:D,2,FALSE)","v":7},11.5,{"$f":"VLOOKUP(ROUND(I2,0),matrix!E:F,2,FALSE)","v":6},{"$f":"F2+H2+J2","v":41},{"$f":"RANK(K2,K:K,0)","v":1}]
["Provatidou","Maria Joanna",2013,"TSV Bayer 04 LA","7,12",{"$f":"VLOOKUP(ROUND(E3,1),matrix!A:B,2,FALSE)","v":26},"2,34",{"$f":"VLOOKUP(ROUND(G3,1),matrix!C:D,2,FALSE)","v":7},8,{"$f":"VLOOKUP(ROUND(I3,0),matrix!E:F,2,FALSE)","v":4},{"$f":"F3+H3+J3","v":37},{"$f":"RANK(K3,K:K,0)","v":2}]
["Casprowitz","Lena",2013,"TSV Bayer 04 LA","7,75",{"$f":"VLOOKUP(ROUND(E4,1),matrix!A:B,2,FALSE)","v":22},"1,90",{"$f":"VLOOKUP(ROUND(G4,1),matrix!C:D,2,FALSE)","v":5},6,{"$f":"VLOOKUP(ROUND(I4,0),matrix!E:F,2,FALSE)","v":3},{"$f":"F4+H4+J4","v":30},{"$f":"RANK(K4,K:K,0)","v":3}]

{"sheet":"matrix","index":1,"n_rows":154,"n_cols":6,"rows_kept":154,"cut":false,"hidden":false,"merged":[]}
["50m-leistung","Punkte 50m","weitsprung","Punkte WS","ballwurf","Punkte BW"]
[5,31,0.1,1,1,1]
[5.0999999999999996,31,0.2,1,2,1]
[5.2,31,0.3,1,3,1]
[5.3,31,0.4,1,4,2]
[5.4,31,0.5,1,5,2]
[5.5,31,0.6,1,6,{"$f":"F6+1","v":3}]
[5.6,31,0.7,1,7,{"$f":"F7","v":3}]
[5.7,31,0.8,1,8,{"$f":"F8+1","v":4}]
[5.8,31,0.9,1,9,{"$f":"F9","v":4}]
[5.9,31,1,1,10,{"$f":"F10+1","v":5}]
[6,{"$f":"B13","v":31},1.1000000000000001,1,11,{"$f":"F11","v":5}]
[6.1,{"$f":"B14+1","v":31},1.2,2,12,{"$f":"F12+1","v":6}]
[6.2,{"$f":"B15","v":30},1.3,2,13,{"$f":"F13","v":6}]
[6.3,{"$f":"B16+1","v":30},1.4,3,14,{"$f":"F14+1","v":7}]
[6.4,{"$f":"B17","v":29},1.5,3,15,{"$f":"F15","v":7}]
[6.5,{"$f":"B18+1","v":29},1.6,4,16,{"$f":"F16+1","v":8}]
[6.6,{"$f":"B19","v":28},1.7,4,17,{"$f":"F17","v":8}]
[6.7,{"$f":"B20+1","v":28},1.8,5,18,{"$f":"F18+1","v":9}]
[6.8,{"$f":"B21","v":27},1.9,5,19,{"$f":"F19","v":9}]
[6.9,{"$f":"B22+1","v":27},2,6,20,{"$f":"F20+1","v":10}]
[7,{"$f":"B23","v":26},2.1,6,21,{"$f":"F21","v":10}]
[7.1,{"$f":"B24+1","v":26},2.2000000000000002,7,22,{"$f":"F22+1","v":11}]
[7.2,{"$f":"B25","v":25},2.2999999999999998,7,23,{"$f":"F23","v":11}]
[7.3,{"$f":"B26+1","v":25},2.4,{"$f":"D24+1","v":8},24,{"$f":"F24+1","v":12}]
[7.4,{"$f":"B27","v":24},2.5,{"$f":"D25","v":8},25,{"$f":"F25","v":12}]
[7.5,{"$f":"B28+1","v":24},2.6,{"$f":"D26+1","v":9},26,{"$f":"F26+1","v":13}]
[7.6,{"$f":"B29","v":23},2.7,{"$f":"D27","v":9},27,{"$f":"F27","v":13}]
[7.7,{"$f":"B30+1","v":23},2.8,{"$f":"D28+1","v":10},28,{"$f":"F28+1","v":14}]
[7.8,{"$f":"B31","v":22},2.9,{"$f":"D29","v":10},29,{"$f":"F29","v":14}]
[7.9,{"$f":"B32+1","v":22},3,{"$f":"D30+1","v":11},30,{"$f":"F30+1","v":15}]
[8,{"$f":"B33","v":21},3.1,{"$f":"D31","v":11},31,{"$f":"F31","v":15}]
[8.1,{"$f":"B34+1","v":21},3.2,{"$f":"D32+1","v":12},32,{"$f":"F32+1","v":16}]
[8.1999999999999993,{"$f":"B35","v":20},3.3,{"$f":"D33","v":12},33,{"$f":"F33","v":16}]
[8.3000000000000007,{"$f":"B36+1","v":20},3.4,{"$f":"D34+1","v":13},34,{"$f":"F34+1","v":17}]
[8.4,{"$f":"B37","v":19},3.5,{"$f":"D35","v":13},35,{"$f":"F35","v":17}]
[8.5,{"$f":"B38+1","v":19},3.6,{"$f":"D36+1","v":14},36,{"$f":"F36+1","v":18}]
[8.6,{"$f":"B39","v":18},3.7,{"$f":"D37","v":14},37,{"$f":"F37","v":18}]
[8.6999999999999993,{"$f":"B40+1","v":18},3.8,{"$f":"D38+1","v":15},38,{"$f":"F38+1","v":19}]
[8.8000000000000007,{"$f":"B41","v":17},3.9,{"$f":"D39","v":15},39,{"$f":"F39","v":19}]
[8.9,{"$f":"B42+1","v":17},4,{"$f":"D40+1","v":16},40,{"$f":"F40+1","v":20}]
[9,{"$f":"B43","v":16},4.0999999999999996,{"$f":"D41","v":16},41,{"$f":"F41","v":20}]
[9.1,{"$f":"B44+1","v":16},4.2,{"$f":"D42+1","v":17},42,{"$f":"F42+1","v":21}]
[9.1999999999999993,{"$f":"B45","v":15},4.3,{"$f":"D43","v":17},43,{"$f":"F43","v":21}]
[9.3000000000000007,{"$f":"B46+1","v":15},4.4000000000000004,{"$f":"D44+1","v":18},44,{"$f":"F44+1","v":22}]
[9.4,{"$f":"B47","v":14},4.5,{"$f":"D45","v":18},45,{"$f":"F45","v":22}]
[9.5,{"$f":"B48+1","v":14},4.5999999999999996,{"$f":"D46+1","v":19},46,{"$f":"F46+1","v":23}]
[9.6,{"$f":"B49","v":13},4.7,{"$f":"D47","v":19},47,{"$f":"F47","v":23}]
[9.6,{"$f":"B50+1","v":13},4.8,{"$f":"D48+1","v":20},48,{"$f":"F48+1","v":24}]
[9.6999999999999993,{"$f":"B51","v":12},4.9000000000000004,{"$f":"D49","v":20},49,{"$f":"F49","v":24}]
[9.8000000000000007,{"$f":"B52+1","v":12},5,{"$f":"D50+1","v":21},50,{"$f":"F50+1","v":25}]
[9.9,11,5.0999999999999996,{"$f":"D51","v":21},51,25]
[10,11,5.2,21,52,25]
[10.1,10,5.3,21,53,25]
[10.199999999999999,10,5.4,21,54,25]
[10.3,9,5.5,21,55,25]
[10.4,9,5.6,21,56,25]
[10.5,8,5.7,21,57,25]
[10.6,8,5.8,21,58,25]
[10.7,7,5.9,21,59,25]
[10.8,7,6,21,60,25]
[10.9,6,6.1,21,61,25]
[11,6,6.2,21,62,25]
[11.1,5,6.3,21,63,25]
[11.2,5,6.4,21,64,25]
[11.3,4,6.5,21,65,25]
[11.4,4,6.6,21,66,25]
[11.5,3,6.7,21,67,25]
[11.6,3,6.8,21,68,25]
[11.7,2,6.9,21,69,25]
[11.8,2,7,21,70,25]
[11.9,1]
[12,1]
[12.1,1]
[12.2,1]
[12.3,1]
[12.4,1]
[12.5,1]
[12.6,1]
[12.7,1]
[12.8,1]
[12.9,1]
[13,1]
[13.1,1]
[13.2,1]
[13.3,1]
[13.4,1]
[13.5,1]
[13.6,1]
[13.7,1]
[13.8,1]
[13.9,1]
[14,1]
[14.1,1]
[14.2,1]
[14.3,1]
[14.4,1]
[14.5,1]
[14.6,1]
[14.7,1]
[14.8,1]
[14.9,1]
[15,1]
[15.1,1]
[15.2,1]
[15.3,1]
[15.4,1]
[15.5,1]
[15.6,1]
[15.7,1]
[15.8,1]
[15.9,1]
[16,1]
[16.100000000000001,1]
[16.2,1]
[16.3,1]
[16.399999999999999,1]
[16.5,1]
[16.600000000000001,1]
[16.7,1]
[16.8,1]
[16.899999999999999,1]
[17,1]
[17.100000000000001,1]
[17.2,1]
[17.3,1]
[17.399999999999999,1]
[17.5,1]
[17.600000000000001,1]
[17.7,1]
[17.8,1]
[17.899999999999999,1]
[18,1]
[18.100000000000001,1]
[18.2,1]
[18.3,1]
[18.399999999999999,1]
[18.5,1]
[18.600000000000001,1]
[18.7,1]
[18.8,1]
[18.899999999999999,1]
[19,1]
[19.100000000000001,1]
[19.2,1]
[19.3,1]
[19.399999999999999,1]
[19.5,1]
[19.600000000000001,1]
[19.7,1]
[19.8,1]
[19.899999999999999,1]
[20,1]
[null,1]

{"sheet":"Tabelle3","index":2,"n_rows":0,"n_cols":0,"rows_kept":0,"cut":false,"hidden":false,"merged":[]}